Workbook

Sheet Main
C2: Date Census: | I2: *Requested Effective Date:
C3: Co Name: | I3: Bus. Description:
C4: SIC Code: | I4: Payroll Cycle:
C5: Contact Nm: | I5: Employer Contribution:
C6: Address: | I6: City/State: | K6: TX | L6: Zip
C7: Telephone: | I7: Fax: | K7: Contact
C8: Current Carrier: | L8: Number of Employees:
C9: Requested Benefits:
A11: Index | B11: Type * | C11: LastName * | D11: FirstName * | E11: Sex | F11: DOB * | G11: Social Security # | H11: Med | I11: Med Plan Election | J11: Den | K11: Vis | L11: Lf | M11: Address | N11: City | O11: State | P11: HmZip | Q11: WkZip | R11: Occupation | S11: Salary | T11: Date of Hire | U11: Email | V11: COBRA | W11: STD | X11: LTD | Y11: Illness | Z11: Accident | AB11: Comp Type | AC11: Pay Cycle | AD11: Pay Period | AG11: Company Name | AH11: =+D3 -> 0
AB12: =+EaseData!AU2 -> 0 | AC12: =+EaseData!AV2 -> 0 | AD12: =+EaseData!AW2 -> 0 | AG12: Company Address | AH12: =+D6 -> 0 | AK12: =+J6 -> 0 | AL12: =+K6 -> TX | AM12: =+M6 -> 0
AB13: =+EaseData!AU1 -> 0 | AC13: =+EaseData!AV1 -> 0 | AD13: =+EaseData!AW1 -> 0 | AG13: Effective Date of Coverage | AH13: =+#REF! -> #REF!
AB14: =+EaseData!AU3 -> 0 | AC14: =+EaseData!AV3 -> 0 | AD14: =+EaseData!AW3 -> 0
AB15: =+EaseData!AU5 -> 0 | AC15: =+EaseData!AV5 -> 0 | AD15: =+EaseData!AW5 -> 0 | AG15: SIC Code | AH15: =+D4 -> 0
AB16: =+EaseData!AU5 -> 0 | AC16: =+EaseData!AV5 -> 0 | AD16: =+EaseData!AW5 -> 0 | AG16: Company Tax ID # | AH16: 99-3394185
AB17: =+EaseData!AU7 -> 0 | AC17: =+EaseData!AV7 -> 0 | AD17: =+EaseData!AW7 -> 0
AB18: =+EaseData!AU8 -> 0 | AC18: =+EaseData!AV8 -> 0 | AD18: =+EaseData!AW8 -> 0 | AH18: 1
AB19: =+EaseData!AU9 -> 0 | AC19: =+EaseData!AV9 -> 0 | AD19: =+EaseData!AW9 -> 0 | AG19: Total Employees | AH19: 3
AB20: =+EaseData!AU10 -> 0 | AC20: =+EaseData!AV10 -> 0 | AD20: =+EaseData!AW10 -> 0 | AG20: Total Dependents | AH20: 5
A21: =IF(B21="Employee",A20+1,IF(OR(B21=AG45,B21=AG47,B21=AG48,B21=AG49,B21=AG50,B21=AG51,B21=AG52,B21=AG53,B21=AG54),A20,"")) -> 0 | B21: =+EaseData!G11 -> 0 | C21: =+EaseData!F11 -> 0 | D21: =+EaseData!D11 -> 0 | E21: =IF(EaseData!J11="Male", "M", IF(EaseData!J11="Female", "F", EaseData!J11)) -> 0 | F21: =+EaseData!M11 -> 0 | R21: =+EaseData!AK11 -> 0 | S21: =+EaseData!AT11 -> 0 | T21: =+EaseData!AE11 -> 0 | U21: =+EaseData!AA11 -> 0 | V21: N | AB21: =+EaseData!AU11 -> 0 | AC21: =+EaseData!AV11 -> 0 | AD21: =+EaseData!AW11 -> 0 | AH21: Med | AI21: Den | AJ21: Vis | AK21: Lf | AL21: STD | AM21: LTD | AN21: Illness | AO21: Accident
A22: =IF(B22="Employee",A21+1,IF(OR(B22=AG46,B22=AG48,B22=AG49,B22=AG50,B22=AG51,B22=AG52,B22=AG53,B22=AG54,B22=AG55),A21,"")) -> 0 | B22: =+EaseData!G12 -> 0 | C22: =+EaseData!F12 -> 0 | D22: =+EaseData!D12 -> 0 | E22: =IF(EaseData!J12="Male", "M", IF(EaseData!J12="Female", "F", EaseData!J12)) -> 0 | F22: =+EaseData!M12 -> 0 | R22: =+EaseData!AK12 -> 0 | S22: =+EaseData!AT12 -> 0 | T22: =+EaseData!AE12 -> 0 | U22: =+EaseData!AA12 -> 0 | V22: N | AB22: =+EaseData!AU12 -> 0 | AC22: =+EaseData!AV12 -> 0 | AD22: =+EaseData!AW12 -> 0 | AG22: EE | AH22: =COUNTIF($H$10:$H$510,"EE") -> 0 | AI22: =COUNTIF($J$10:$J$510,"EE") -> 0 | AJ22: =COUNTIF($K$10:$K$510,"EE") -> 0 | AK22: =COUNTIF($L$10:$L$510,"EE") -> 0 | AL22: =COUNTIF($W$12:$W$510,"EE") -> 0 | AM22: =COUNTIF($X$12:$X$510,"EE") -> 0 | AN22: =COUNTIF($Y$12:$Y$510,"EE") -> 0 | AO22: =COUNTIF($Z$12:$Z$510,"EE") -> 0
A23: =IF(B23="Employee",A22+1,IF(OR(B23=AG47,B23=AG49,B23=AG50,B23=AG51,B23=AG52,B23=AG53,B23=AG54,B23=AG55,B23=AG56),A22,"")) -> 0 | B23: =+EaseData!G13 -> 0 | C23: =+EaseData!F13 -> 0 | D23: =+EaseData!D13 -> 0 | E23: =IF(EaseData!J13="Male", "M", IF(EaseData!J13="Female", "F", EaseData!J13)) -> 0 | F23: =+EaseData!M13 -> 0 | R23: =+EaseData!AK13 -> 0 | S23: =+EaseData!AT13 -> 0 | T23: =+EaseData!AE13 -> 0 | U23: =+EaseData!AA13 -> 0 | V23: N | AB23: =+EaseData!AU13 -> 0 | AC23: =+EaseData!AV13 -> 0 | AD23: =+EaseData!AW13 -> 0 | AG23: ES | AH23: =COUNTIF($H$10:$H$510,"ES") -> 0 | AI23: =COUNTIF($J$10:$J$510,"ES") -> 0 | AJ23: =COUNTIF($K$10:$K$510,"ES") -> 0 | AK23: =COUNTIF($L$10:$L$510,"ES") -> 0 | AL23: =COUNTIF($W$12:$W$510,"Es") -> 0 | AM23: =COUNTIF($X$12:$X$510,"Es") -> 0 | AN23: =COUNTIF($Y$12:$Y$510,"Es") -> 0 | AO23: =COUNTIF($Z$12:$Z$510,"Es") -> 0
A24: =IF(B24="Employee",A23+1,IF(OR(B24=AG48,B24=AG50,B24=AG51,B24=AG52,B24=AG53,B24=AG54,B24=AG55,B24=AG56,B24=AG57),A23,"")) -> 0 | B24: =+EaseData!G14 -> 0 | C24: =+EaseData!F14 -> 0 | D24: =+EaseData!D14 -> 0 | E24: =IF(EaseData!J14="Male", "M", IF(EaseData!J14="Female", "F", EaseData!J14)) -> 0 | F24: =+EaseData!M14 -> 0 | R24: =+EaseData!AK14 -> 0 | S24: =+EaseData!AT14 -> 0 | T24: =+EaseData!AE14 -> 0 | U24: =+EaseData!AA14 -> 0 | V24: N | AB24: =+EaseData!AU14 -> 0 | AC24: =+EaseData!AV14 -> 0 | AD24: =+EaseData!AW14 -> 0 | AG24: EC | AH24: 3 | AI24: =COUNTIF($J$10:$J$510,"EC") -> 0 | AJ24: =COUNTIF($K$10:$K$510,"EC") -> 0 | AK24: =COUNTIF($L$10:$L$510,"EC") -> 0 | AL24: =COUNTIF($W$12:$W$510,"Ec") -> 0 | AM24: =COUNTIF($X$12:$X$510,"Ec") -> 0 | AN24: =COUNTIF($Y$12:$Y$510,"Ec") -> 0 | AO24: =COUNTIF($Z$12:$Z$510,"Ec") -> 0
A25: =IF(B25="Employee",A24+1,IF(OR(B25=AG49,B25=AG51,B25=AG52,B25=AG53,B25=AG54,B25=AG55,B25=AG56,B25=AG57,B25=AG58),A24,"")) -> 0 | B25: =+EaseData!G15 -> 0 | C25: =+EaseData!F15 -> 0 | D25: =+EaseData!D15 -> 0 | E25: =IF(EaseData!J15="Male", "M", IF(EaseData!J15="Female", "F", EaseData!J15)) -> 0 | F25: =+EaseData!M15 -> 0 | R25: =+EaseData!AK15 -> 0 | S25: =+EaseData!AT15 -> 0 | T25: =+EaseData!AE15 -> 0 | U25: =+EaseData!AA15 -> 0 | V25: N | AB25: =+EaseData!AU15 -> 0 | AC25: =+EaseData!AV15 -> 0 | AD25: =+EaseData!AW15 -> 0 | AG25: EF | AH25: 4 | AI25: =COUNTIF($J$10:$J$510,"EF") -> 0 | AJ25: =COUNTIF($K$10:$K$510,"EF") -> 0 | AK25: =COUNTIF($L$10:$L$510,"EF") -> 0 | AL25: =COUNTIF($W$12:$W$510,"Ef") -> 0 | AM25: =COUNTIF($X$12:$X$510,"Ef") -> 0 | AN25: =COUNTIF($Y$12:$Y$510,"Ef") -> 0 | AO25: =COUNTIF($Z$12:$Z$510,"Ef") -> 0
A26: =IF(B26="Employee",A25+1,IF(OR(B26=AG50,B26=AG52,B26=AG53,B26=AG54,B26=AG55,B26=AG56,B26=AG57,B26=AG58,B26=AG59),A25,"")) -> 0 | B26: =+EaseData!G16 -> 0 | C26: =+EaseData!F16 -> 0 | D26: =+EaseData!D16 -> 0 | E26: =IF(EaseData!J16="Male", "M", IF(EaseData!J16="Female", "F", EaseData!J16)) -> 0 | F26: =+EaseData!M16 -> 0 | R26: =+EaseData!AK16 -> 0 | S26: =+EaseData!AT16 -> 0 | T26: =+EaseData!AE16 -> 0 | U26: =+EaseData!AA16 -> 0 | V26: N | AB26: =+EaseData!AU16 -> 0 | AC26: =+EaseData!AV16 -> 0 | AD26: =+EaseData!AW16 -> 0 | AG26: Waiving | AH26: 1 | AI26: =COUNTIF($J$10:$J$510,"Waiving") -> 0 | AJ26: =COUNTIF($K$10:$K$510,"Waiving") -> 0 | AK26: =COUNTIF($L$10:$L$510,"Waiving") -> 0 | AL26: =COUNTIF($W$12:$W$510,"Waiving") -> 0 | AM26: =COUNTIF($X$12:$X$510,"Waiving") -> 0 | AN26: =COUNTIF($Y$12:$Y$510,"Waiving") -> 0 | AO26: =COUNTIF($Z$12:$Z$510,"Waiving") -> 0
A27: =IF(B27="Employee",A26+1,IF(OR(B27=AG51,B27=AG53,B27=AG54,B27=AG55,B27=AG56,B27=AG57,B27=AG58,B27=AG59,B27=AG60),A26,"")) -> 0 | B27: =+EaseData!G17 -> 0 | C27: =+EaseData!F17 -> 0 | D27: =+EaseData!D17 -> 0 | E27: =IF(EaseData!J17="Male", "M", IF(EaseData!J17="Female", "F", EaseData!J17)) -> 0 | F27: =+EaseData!M17 -> 0 | R27: =+EaseData!AK17 -> 0 | S27: =+EaseData!AT17 -> 0 | T27: =+EaseData!AE17 -> 0 | U27: =+EaseData!AA17 -> 0 | V27: N | AB27: =+EaseData!AU17 -> 0 | AC27: =+EaseData!AV17 -> 0 | AD27: =+EaseData!AW17 -> 0 | AG27: TOTAL | AH27: =SUM(AH22:AH25) -> 7 | AI27: =SUM(AI22:AI25) -> 0 | AJ27: =SUM(AJ22:AJ25) -> 0 | AK27: =SUM(AK22:AK25) -> 0 | AL27: =SUM(AL22:AL25) -> 0 | AM27: =SUM(AM22:AM25) -> 0 | AN27: =SUM(AN22:AN25) -> 0 | AO27: =SUM(AO22:AO25) -> 0
A28: =IF(B28="Employee",A27+1,IF(OR(B28=AG52,B28=AG54,B28=AG55,B28=AG56,B28=AG57,B28=AG58,B28=AG59,B28=AG60,B28=AG61),A27,"")) -> 0 | B28: =+EaseData!G18 -> 0 | C28: =+EaseData!F18 -> 0 | D28: =+EaseData!D18 -> 0 | E28: =IF(EaseData!J18="Male", "M", IF(EaseData!J18="Female", "F", EaseData!J18)) -> 0 | F28: =+EaseData!M18 -> 0 | R28: =+EaseData!AK18 -> 0 | S28: =+EaseData!AT18 -> 0 | T28: =+EaseData!AE18 -> 0 | U28: =+EaseData!AA18 -> 0 | V28: N | AB28: =+EaseData!AU18 -> 0 | AC28: =+EaseData!AV18 -> 0 | AD28: =+EaseData!AW18 -> 0
A29: =IF(B29="Employee",A28+1,IF(OR(B29=AG53,B29=AG55,B29=AG56,B29=AG57,B29=AG58,B29=AG59,B29=AG60,B29=AG61,B29=AG62),A28,"")) -> 0 | B29: =+EaseData!G19 -> 0 | C29: =+EaseData!F19 -> 0 | D29: =+EaseData!D19 -> 0 | E29: =IF(EaseData!J19="Male", "M", IF(EaseData!J19="Female", "F", EaseData!J19)) -> 0 | F29: =+EaseData!M19 -> 0 | R29: =+EaseData!AK19 -> 0 | S29: =+EaseData!AT19 -> 0 | T29: =+EaseData!AE19 -> 0 | U29: =+EaseData!AA19 -> 0 | V29: N | AB29: =+EaseData!AU19 -> 0 | AC29: =+EaseData!AV19 -> 0 | AD29: =+EaseData!AW19 -> 0 | AG29: * = required field
A30: =IF(B30="Employee",A29+1,IF(OR(B30=AG54,B30=AG56,B30=AG57,B30=AG58,B30=AG59,B30=AG60,B30=AG61,B30=AG62,B30=AG63),A29,"")) -> 0 | B30: =+EaseData!G20 -> 0 | C30: =+EaseData!F20 -> 0 | D30: =+EaseData!D20 -> 0 | E30: =IF(EaseData!J20="Male", "M", IF(EaseData!J20="Female", "F", EaseData!J20)) -> 0 | F30: =+EaseData!M20 -> 0 | R30: =+EaseData!AK20 -> 0 | S30: =+EaseData!AT20 -> 0 | T30: =+EaseData!AE20 -> 0 | U30: =+EaseData!AA20 -> 0 | V30: N | AB30: =+EaseData!AU20 -> 0 | AC30: =+EaseData!AV20 -> 0 | AD30: =+EaseData!AW20 -> 0
A31: =IF(B31="Employee",A30+1,IF(OR(B31=AG55,B31=AG57,B31=AG58,B31=AG59,B31=AG60,B31=AG61,B31=AG62,B31=AG63,B31=AG64),A30,"")) -> 0 | B31: =+EaseData!G21 -> 0 | C31: =+EaseData!F21 -> 0 | D31: =+EaseData!D21 -> 0 | E31: =IF(EaseData!J21="Male", "M", IF(EaseData!J21="Female", "F", EaseData!J21)) -> 0 | F31: =+EaseData!M21 -> 0 | R31: =+EaseData!AK21 -> 0 | S31: =+EaseData!AT21 -> 0 | T31: =+EaseData!AE21 -> 0 | U31: =+EaseData!AA21 -> 0 | V31: N | AB31: =+EaseData!AU21 -> 0 | AC31: =+EaseData!AV21 -> 0 | AD31: =+EaseData!AW21 -> 0 | AG31: Some carriers need Home and Work Zip codes.
A32: =IF(B32="Employee",A31+1,IF(OR(B32=AG56,B32=AG58,B32=AG59,B32=AG60,B32=AG61,B32=AG62,B32=AG63,B32=AG64,B32=AG65),A31,"")) -> 0 | B32: =+EaseData!G22 -> 0 | C32: =+EaseData!F22 -> 0 | D32: =+EaseData!D22 -> 0 | E32: =IF(EaseData!J22="Male", "M", IF(EaseData!J22="Female", "F", EaseData!J22)) -> 0 | F32: =+EaseData!M22 -> 0 | R32: =+EaseData!AK22 -> 0 | S32: =+EaseData!AT22 -> 0 | T32: =+EaseData!AE22 -> 0 | U32: =+EaseData!AA22 -> 0 | V32: N | AB32: =+EaseData!AU22 -> 0 | AC32: =+EaseData!AV22 -> 0 | AD32: =+EaseData!AW22 -> 0 | AG32: Some life policies need a salary entered.
A33: =IF(B33="Employee",A32+1,IF(OR(B33=AG57,B33=AG59,B33=AG60,B33=AG61,B33=AG62,B33=AG63,B33=AG64,B33=AG65,B33=AG66),A32,"")) -> 0 | B33: =+EaseData!G23 -> 0 | C33: =+EaseData!F23 -> 0 | D33: =+EaseData!D23 -> 0 | E33: =IF(EaseData!J23="Male", "M", IF(EaseData!J23="Female", "F", EaseData!J23)) -> 0 | F33: =+EaseData!M23 -> 0 | R33: =+EaseData!AK23 -> 0 | S33: =+EaseData!AT23 -> 0 | T33: =+EaseData!AE23 -> 0 | U33: =+EaseData!AA23 -> 0 | V33: N | AB33: =+EaseData!AU23 -> 0 | AC33: =+EaseData!AV23 -> 0 | AD33: =+EaseData!AW23 -> 0
A34: =IF(B34="Employee",A33+1,IF(OR(B34=AG58,B34=AG60,B34=AG61,B34=AG62,B34=AG63,B34=AG64,B34=AG65,B34=AG66,B34=AG67),A33,"")) -> 0 | B34: =+EaseData!G24 -> 0 | C34: =+EaseData!F24 -> 0 | D34: =+EaseData!D24 -> 0 | E34: =IF(EaseData!J24="Male", "M", IF(EaseData!J24="Female", "F", EaseData!J24)) -> 0 | F34: =+EaseData!M24 -> 0 | R34: =+EaseData!AK24 -> 0 | S34: =+EaseData!AT24 -> 0 | T34: =+EaseData!AE24 -> 0 | U34: =+EaseData!AA24 -> 0 | V34: N | AB34: =+EaseData!AU24 -> 0 | AC34: =+EaseData!AV24 -> 0 | AD34: =+EaseData!AW24 -> 0 | AG34: M
A35: =IF(B35="Employee",A34+1,IF(OR(B35=AG59,B35=AG61,B35=AG62,B35=AG63,B35=AG64,B35=AG65,B35=AG66,B35=AG67,B35=AG68),A34,"")) -> 0 | B35: =+EaseData!G25 -> 0 | C35: =+EaseData!F25 -> 0 | D35: =+EaseData!D25 -> 0 | E35: =IF(EaseData!J25="Male", "M", IF(EaseData!J25="Female", "F", EaseData!J25)) -> 0 | F35: =+EaseData!M25 -> 0 | R35: =+EaseData!AK25 -> 0 | S35: =+EaseData!AT25 -> 0 | T35: =+EaseData!AE25 -> 0 | U35: =+EaseData!AA25 -> 0 | V35: N | AB35: =+EaseData!AU25 -> 0 | AC35: =+EaseData!AV25 -> 0 | AD35: =+EaseData!AW25 -> 0 | AG35: F
A36: =IF(B36="Employee",A35+1,IF(OR(B36=AG60,B36=AG62,B36=AG63,B36=AG64,B36=AG65,B36=AG66,B36=AG67,B36=AG68,B36=AG69),A35,"")) -> 0 | B36: =+EaseData!G26 -> 0 | C36: =+EaseData!F26 -> 0 | D36: =+EaseData!D26 -> 0 | E36: =IF(EaseData!J26="Male", "M", IF(EaseData!J26="Female", "F", EaseData!J26)) -> 0 | F36: =+EaseData!M26 -> 0 | R36: =+EaseData!AK26 -> 0 | S36: =+EaseData!AT26 -> 0 | T36: =+EaseData!AE26 -> 0 | U36: =+EaseData!AA26 -> 0 | V36: N | AB36: =+EaseData!AU26 -> 0 | AC36: =+EaseData!AV26 -> 0 | AD36: =+EaseData!AW26 -> 0 | AG36: Employee
A37: =IF(B37="Employee",A36+1,IF(OR(B37=AG61,B37=AG63,B37=AG64,B37=AG65,B37=AG66,B37=AG67,B37=AG68,B37=AG69,B37=AG70),A36,"")) -> 0 | B37: =+EaseData!G27 -> 0 | C37: =+EaseData!F27 -> 0 | D37: =+EaseData!D27 -> 0 | E37: =IF(EaseData!J27="Male", "M", IF(EaseData!J27="Female", "F", EaseData!J27)) -> 0 | F37: =+EaseData!M27 -> 0 | R37: =+EaseData!AK27 -> 0 | S37: =+EaseData!AT27 -> 0 | T37: =+EaseData!AE27 -> 0 | U37: =+EaseData!AA27 -> 0 | V37: N | AB37: =+EaseData!AU27 -> 0 | AC37: =+EaseData!AV27 -> 0 | AD37: =+EaseData!AW27 -> 0 | AG37: Spouse
A38: =IF(B38="Employee",A37+1,IF(OR(B38=AG62,B38=AG64,B38=AG65,B38=AG66,B38=AG67,B38=AG68,B38=AG69,B38=AG70,B38=AG71),A37,"")) -> 0 | B38: =+EaseData!G28 -> 0 | C38: =+EaseData!F28 -> 0 | D38: =+EaseData!D28 -> 0 | E38: =IF(EaseData!J28="Male", "M", IF(EaseData!J28="Female", "F", EaseData!J28)) -> 0 | F38: =+EaseData!M28 -> 0 | R38: =+EaseData!AK28 -> 0 | S38: =+EaseData!AT28 -> 0 | T38: =+EaseData!AE28 -> 0 | U38: =+EaseData!AA28 -> 0 | V38: N | AB38: =+EaseData!AU28 -> 0 | AC38: =+EaseData!AV28 -> 0 | AD38: =+EaseData!AW28 -> 0 | AG38: Child
A39: =IF(B39="Employee",A38+1,IF(OR(B39=AG63,B39=AG65,B39=AG66,B39=AG67,B39=AG68,B39=AG69,B39=AG70,B39=AG71,B39=AG72),A38,"")) -> 0 | B39: =+EaseData!G29 -> 0 | C39: =+EaseData!F29 -> 0 | D39: =+EaseData!D29 -> 0 | E39: =IF(EaseData!J29="Male", "M", IF(EaseData!J29="Female", "F", EaseData!J29)) -> 0 | F39: =+EaseData!M29 -> 0 | R39: =+EaseData!AK29 -> 0 | S39: =+EaseData!AT29 -> 0 | T39: =+EaseData!AE29 -> 0 | U39: =+EaseData!AA29 -> 0 | V39: N | AB39: =+EaseData!AU29 -> 0 | AC39: =+EaseData!AV29 -> 0 | AD39: =+EaseData!AW29 -> 0 | AG39: Spouse - Ex | AH39: Y
A40: =IF(B40="Employee",A39+1,IF(OR(B40=AG64,B40=AG66,B40=AG67,B40=AG68,B40=AG69,B40=AG70,B40=AG71,B40=AG72,B40=AG73),A39,"")) -> 0 | B40: =+EaseData!G30 -> 0 | C40: =+EaseData!F30 -> 0 | D40: =+EaseData!D30 -> 0 | E40: =IF(EaseData!J30="Male", "M", IF(EaseData!J30="Female", "F", EaseData!J30)) -> 0 | F40: =+EaseData!M30 -> 0 | P40: =+EaseData!T30 -> 0 | R40: =+EaseData!AK30 -> 0 | S40: =+EaseData!AT30 -> 0 | T40: =+EaseData!AE30 -> 0 | U40: =+EaseData!AA30 -> 0 | V40: N | AB40: =+EaseData!AU30 -> 0 | AC40: =+EaseData!AV30 -> 0 | AD40: =+EaseData!AW30 -> 0 | AG40: Child - Domestic Partner | AH40: N
A41: =IF(B41="Employee",A40+1,IF(OR(B41=AG65,B41=AG67,B41=AG68,B41=AG69,B41=AG70,B41=AG71,B41=AG72,B41=AG73,B41=AG74),A40,"")) -> 0 | B41: =+EaseData!G31 -> 0 | C41: =+EaseData!F31 -> 0 | D41: =+EaseData!D31 -> 0 | E41: =IF(EaseData!J31="Male", "M", IF(EaseData!J31="Female", "F", EaseData!J31)) -> 0 | F41: =+EaseData!M31 -> 0 | P41: =+EaseData!T31 -> 0 | R41: =+EaseData!AK31 -> 0 | S41: =+EaseData!AT31 -> 0 | T41: =+EaseData!AE31 -> 0 | U41: =+EaseData!AA31 -> 0 | V41: N | AB41: =+EaseData!AU31 -> 0 | AC41: =+EaseData!AV31 -> 0 | AD41: =+EaseData!AW31 -> 0 | AG41: Child - Adopted
A42: =IF(B42="Employee",A41+1,IF(OR(B42=AG66,B42=AG68,B42=AG69,B42=AG70,B42=AG71,B42=AG72,B42=AG73,B42=AG74,B42=AG75),A41,"")) -> 0 | B42: =+EaseData!G32 -> 0 | C42: =+EaseData!F32 -> 0 | D42: =+EaseData!D32 -> 0 | E42: =IF(EaseData!J32="Male", "M", IF(EaseData!J32="Female", "F", EaseData!J32)) -> 0 | F42: =+EaseData!M32 -> 0 | P42: =+EaseData!T32 -> 0 | R42: =+EaseData!AK32 -> 0 | S42: =+EaseData!AT32 -> 0 | T42: =+EaseData!AE32 -> 0 | U42: =+EaseData!AA32 -> 0 | V42: N | AB42: =+EaseData!AU32 -> 0 | AC42: =+EaseData!AV32 -> 0 | AD42: =+EaseData!AW32 -> 0 | AG42: Child - Foster
...

Sheet Instructions
A1: Timeline: | B1: Once plans are selected, we recommend allowing two weeks for applications to be processed in order to receive final rates prior to the requested effective date.
B2: *Please note: applications submitted with less than two weeks lead time, may not receive approval/final rates until after the effective date (in some cases, you may experience a delay of as much as 10 business days).
A3: Instructions: | B3: The following fields MUST be completed in full for All Eligible Employees.
A4: Employee Record # | B4: Used to number only the Employees (no number here for Spouse or Child)
A5: Associated w Employee Record # | B5: Blank for Employee. Put the number corresponding to the Employee Record # in this field when Spouse or Child
A6: *Relationship | B6: Employee Spouse Child
A7: Last Name
A8: First Name
A9: DOB | B9: Type MMDDYY
A10: Gender | B10: Male or Female
A11: Home Zip
A12: Work Zip
A13: Medical | B13: EE - Employee Only ES - Employee + Spouse EC - Employee + Child EF - Employee + Spouse + Child Waiving - Waiving Coverage
A14: Dental | B14: EE - Employee Only ES - Employee + Spouse EC - Employee + Child EF - Employee + Spouse + Child Waiving - Waiving Coverage
A15: Vision | B15: EE - Employee Only ES - Employee + Spouse EC - Employee + Child EF - Employee + Spouse + Child Waiving - Waiving Coverage
A16: Life | B16: EE - Employee Only ES - Employee + Spouse EC - Employee + Child EF - Employee + Spouse + Child Waiving - Waiving Coverage
A17: Life Volume
A18: Disability
A19: Annual Salary (est if hrly) | B19: Required Only if you are insterested in obtaining quotes for Group Disability OR Salary Based Life Insurance Annual Salary: required ONLY if you are interested in obtaining quotes for Group Disability, or salary based Life Insurance. For hourly employees, provide estimate of annual salary. For commissioned employees, provide previous year's total salary including commission OR (if not available) estimated amt for current year.
A20: # Children
A21: Medicare Enrollee
A22: Cobra or State Continuation
A23: Smoker | B23: Y / N
A24: Retired | B24: Y / N
A25: Disabled | B25: Y / N

Sheet Sample Census
D2: Date of Census: | E2: 43872 | K2: *Requested Effective Date: | L2: 45689
D3: Co Name: | E3: Sample Company | K3: Bus. Description: | L3: Insurance Office
D4: SIC Code: | E4: 3534 | K4: Payroll Cycle: | N4: Company Tax ID # | O4: 555555550
D5: Contact Name: | E5: D. Trump | K5: Employer Contribution:
D6: Address: | E6: 1600 Pennsylvania Ave NW | K6: City/State: | L6: Washington | M6: DC | N6: Zip | O6: 20500
D7: Telephone: | E7: 5553722211 | K7: Fax: | L7: 5553722211 | M7: Email | N7: Dtrump@TheBigHouse.com
D8: Current Carrier: | E8: Humana | N8: Avg # Emp | O8: 5200
D9: Requested Benefits: | E9: Med Dent Vis
A11: Index | B11: Type * | C11: LastName * | D11: FirstName * | E11: Gen * | F11: DOB * | G11: Med | H11: Den | I11: Vis | J11: Lf | K11: HmZip | L11: WkZip | M11: Occupation | N11: Salary | O11: Date of Hire | P11: Email | Q11: COBRA | R11: Tobacco | Y11: Company Name | Z11: =+E3 -> Sample Company
A12: =IF(B12="Employee",1,"") -> 1 | B12: Employee | C12: Able | D12: Jane | E12: F | F12: 29495 | G12: EE | H12: EE | I12: EE | J12: EE | K12: 78656 | L12: 78759 | M12: Sales | N12: 40000 | O12: 45658 | P12: A@gmail.com | Q12: N | R12: N | Y12: Company Address | Z12: =+E6 -> 1600 Pennsylvania Ave NW | AC12: =+L6 -> Washington | AD12: =+M6 -> DC | AE12: =+O6 -> 20500
A13: =IF(B13="Employee",A12+1,IF(OR(B13="Spouse",B13="Child"),A12,"")) -> 2 | B13: Employee | C13: Brown | D13: Barry | E13: M | F13: 29768 | G13: Waiving | H13: Waiving | I13: Waiving | J13: Waiving | K13: 78656 | L13: 78759 | M13: Owner | N13: 1000000 | O13: 45658 | P13: A@gmail.com | Q13: N | R13: N | Y13: Company Tax ID # | Z13: =+O4 -> 555555550
A14: =IF(B14="Employee",A13+1,IF(OR(B14="Spouse",B14="Child"),A13,"")) -> 3 | B14: Employee | C14: Green | D14: Bob | E14: M | F14: 27030 | G14: EF | H14: EF | I14: EF | J14: EE | K14: 78656 | L14: 78759 | M14: Mail Room | N14: 25000 | O14: 45658 | P14: A@gmail.com | Q14: N | R14: N | Y14: Effective Date of Coverage | Z14: =+L2 -> 45689
A15: =IF(B15="Employee",A14+1,IF(OR(B15="Spouse",B15="Child"),A14,"")) -> 3 | B15: Spouse | C15: Green | D15: Lisa | E15: F | F15: 27427 | Q15: N | R15: N | Y15: SIC Code | Z15: =+E4 -> 3534
A16: =IF(B16="Employee",A15+1,IF(OR(B16="Spouse",B16="Child"),A15,"")) -> 3 | B16: Child | C16: Green | D16: Linda | E16: F | F16: 36526 | Q16: N | R16: N | Y16: Average total number of employees for the previous calendar year (ATNE)
A17: =IF(B17="Employee",A16+1,IF(OR(B17="Spouse",B17="Child"),A16,"")) -> 3 | B17: Child | C17: Green | D17: Bill | E17: M | F17: 37654 | Q17: N | R17: N
A18: =IF(B18="Employee",A17+1,IF(OR(B18="Spouse",B18="Child"),A17,"")) -> 3 | B18: Child | C18: Green | D18: Andrew | E18: M | F18: 38414 | Q18: N | R18: N | Z18: =+O8 -> 5200
A19: =IF(B19="Employee",A18+1,IF(OR(B19="Spouse",B19="Child"),A18,"")) -> 4 | B19: Employee | C19: Jones | D19: Julia | E19: F | F19: 23867 | G19: ES | H19: ES | I19: ES | J19: EE | K19: 78656 | L19: 78759 | M19: Receiption | N19: 35000 | O19: 45658 | P19: A@gmail.com | Q19: N | R19: N | Y19: Total Employees | Z19: =COUNTIF($B$10:$B$509,"Employee") -> 13
A20: =IF(B20="Employee",A19+1,IF(OR(B20="Spouse",B20="Child"),A19,"")) -> 4 | B20: Spouse | C20: Jones | D20: Joe | E20: M | F20: 23534 | Q20: N | R20: N | Y20: Total Dependents | Z20: =COUNTIF($B$10:$B$509,"Spouse")+COUNTIF($B$10:$B$509,"Child") -> 8
A21: =IF(B21="Employee",A20+1,IF(OR(B21="Spouse",B21="Child"),A20,"")) -> 5 | B21: Employee | C21: Moore | D21: Janet | E21: F | F21: 24932 | G21: EE | H21: EE | I21: EE | J21: EE | K21: 78656 | L21: 78759 | M21: Sales | N21: 75000 | O21: 45658 | P21: A@gmail.com | Q21: N | R21: N | Z21: Med | AA21: Den | AB21: Vis | AC21: Lf
A22: =IF(B22="Employee",A21+1,IF(OR(B22="Spouse",B22="Child"),A21,"")) -> 6 | B22: Employee | C22: Nixon | D22: Pam | E22: F | F22: 26330 | G22: Waiving | H22: Waiving | I22: Waiving | J22: EE | K22: 78656 | L22: 78759 | M22: VP Benefits | N22: 85000 | O22: 45658 | P22: A@gmail.com | Q22: N | R22: N | Y22: EE | Z22: =COUNTIF($G$10:$G$510,"EE") -> 6 | AA22: =COUNTIF($H$10:$H$510,"EE") -> 0 | AB22: =COUNTIF($I$10:$I$510,"EE") -> 6 | AC22: =COUNTIF($J$10:$J$510,"EE") -> 11
A23: =IF(B23="Employee",A22+1,IF(OR(B23="Spouse",B23="Child"),A22,"")) -> 7 | B23: Employee | C23: Norton | D23: Jim | E23: M | F23: 26755 | G23: EE | H23: EE | I23: EE | J23: EE | K23: 78656 | L23: 78759 | M23: Sales | N23: 45000 | O23: 45658 | P23: A@gmail.com | Q23: N | R23: N | Y23: ES | Z23: =COUNTIF($G$10:$G$510,"ES") -> 1 | AA23: =COUNTIF($H$10:$H$510,"ES") -> 1 | AB23: =COUNTIF($I$10:$I$510,"ES") -> 1 | AC23: =COUNTIF($J$10:$J$510,"ES") -> 0
A24: =IF(B24="Employee",A23+1,IF(OR(B24="Spouse",B24="Child"),A23,"")) -> 8 | B24: Employee | C24: Randle | D24: Henry | E24: M | F24: 28551 | G24: EE | H24: EE | I24: EE | J24: EE | K24: 78656 | L24: 78759 | M24: Sales | N24: 65000 | O24: 45658 | P24: A@gmail.com | Q24: N | R24: N | Y24: EC | Z24: =COUNTIF($G$10:$G$510,"EC") -> 2 | AA24: =COUNTIF($H$10:$H$510,"EC") -> 2 | AB24: =COUNTIF($I$10:$I$510,"EC") -> 2 | AC24: =COUNTIF($J$10:$J$510,"EC") -> 0
A25: =IF(B25="Employee",A24+1,IF(OR(B25="Spouse",B25="Child"),A24,"")) -> 9 | B25: Employee | C25: Robinson | D25: JoAnn | E25: F | F25: 30317 | G25: EE | H25: EE | I25: EE | J25: EE | K25: 78656 | L25: 78759 | M25: VP Benefits | N25: 65000 | O25: 45658 | P25: A@gmail.com | Q25: N | R25: N | Y25: EF | Z25: =COUNTIF($G$10:$G$510,"EF") -> 1 | AA25: =COUNTIF($H$10:$H$510,"EF") -> 1 | AB25: =COUNTIF($I$10:$I$510,"EF") -> 1 | AC25: =COUNTIF($J$10:$J$510,"EF") -> 0
A26: =IF(B26="Employee",A25+1,IF(OR(B26="Spouse",B26="Child"),A25,"")) -> 10 | B26: Employee | C26: Sanderson | D26: Millie | E26: F | F26: 28887 | G26: EC | H26: EC | I26: EC | J26: EE | K26: 78656 | L26: 78759 | M26: Sales | N26: 25000 | O26: 45658 | P26: A@gmail.com | Q26: N | R26: N | Y26: Waiving | Z26: =COUNTIF($G$10:$G$510,"Waiving") -> 3 | AA26: =COUNTIF($H$10:$H$510,"Waiving") -> 3 | AB26: =COUNTIF($I$10:$I$510,"Waiving") -> 3 | AC26: =COUNTIF($J$10:$J$510,"Waiving") -> 2
A27: =IF(B27="Employee",A26+1,IF(OR(B27="Spouse",B27="Child"),A26,"")) -> 10 | B27: Child | C27: Sanderson | D27: Amanda | E27: F | F27: 36892 | Q27: N | R27: N | Y27: TOTAL | Z27: =SUM(Z22:Z25) -> 10 | AA27: =SUM(AA22:AA25) -> 4 | AB27: =SUM(AB22:AB25) -> 10 | AC27: =SUM(AC22:AC25) -> 11
A28: =IF(B28="Employee",A27+1,IF(OR(B28="Spouse",B28="Child"),A27,"")) -> 11 | B28: Employee | C28: Smith | D28: James | E28: M | F28: 29618 | G28: EC | H28: EC | I28: EC | J28: EE | K28: 78656 | L28: 78759 | M28: Sales | N28: 35000 | O28: 45658 | P28: A@gmail.com | Q28: N | R28: N
A29: =IF(B29="Employee",A28+1,IF(OR(B29="Spouse",B29="Child"),A28,"")) -> 11 | B29: Child | C29: Smith | D29: Jonathan | E29: M | F29: 41730 | Q29: N | R29: N | Y29: * = required field
A30: =IF(B30="Employee",A29+1,IF(OR(B30="Spouse",B30="Child"),A29,"")) -> 11 | B30: Child | C30: Smith | D30: Aaron | E30: M | F30: 40940 | Q30: N | R30: N
A31: =IF(B31="Employee",A30+1,IF(OR(B31="Spouse",B31="Child"),A30,"")) -> 12 | B31: Employee | C31: White | D31: George | E31: M | F31: 29768 | G31: EE | H31: EE | I31: EE | J31: EE | K31: 78656 | L31: 78759 | M31: Sales | N31: 45000 | O31: 45658 | P31: A@gmail.com | Q31: N | R31: N | Y31: Some carriers need Home and Work Zip codes.
A32: =IF(B32="Employee",A31+1,IF(OR(B32="Spouse",B32="Child"),A31,"")) -> 13 | B32: Employee | C32: Willett | D32: Amy | E32: F | F32: 17791 | G32: Waiving | H32: Waiving | I32: Waiving | J32: Waiving | K32: 78656 | L32: 78759 | M32: Sales | N32: 55000 | O32: 45658 | P32: A@gmail.com | Q32: N | R32: N | Y32: Some life policies need a salary entered.
A33: =IF(B33="Employee",A32+1,IF(OR(B33="Spouse",B33="Child"),A32,"")) | Q33: N | R33: N
A34: =IF(B34="Employee",A33+1,IF(OR(B34="Spouse",B34="Child"),A33,"")) | Q34: N | R34: N | Y34: M
A35: =IF(B35="Employee",A34+1,IF(OR(B35="Spouse",B35="Child"),A34,"")) | Q35: N | R35: N | Y35: F
A36: =IF(B36="Employee",A35+1,IF(OR(B36="Spouse",B36="Child"),A35,"")) | Q36: N | R36: N | Y36: Employee
A37: =IF(B37="Employee",A36+1,IF(OR(B37="Spouse",B37="Child"),A36,"")) | Q37: N | R37: N | Y37: Spouse
A38: =IF(B38="Employee",A37+1,IF(OR(B38="Spouse",B38="Child"),A37,"")) | Q38: N | R38: N | Y38: Child
A39: =IF(B39="Employee",A38+1,IF(OR(B39="Spouse",B39="Child"),A38,"")) | Q39: N | R39: N | Y39: Y
A40: =IF(B40="Employee",A39+1,IF(OR(B40="Spouse",B40="Child"),A39,"")) | Q40: N | R40: N | Y40: N
A41: =IF(B41="Employee",A40+1,IF(OR(B41="Spouse",B41="Child"),A40,"")) | Q41: N | R41: N
A42: =IF(B42="Employee",A41+1,IF(OR(B42="Spouse",B42="Child"),A41,"")) | Q42: N | R42: N
...

Sheet EaseData
